BEGIN:VCALENDAR
VERSION:2.0
PRODID:-//Paraeishockey Förderverein - ECPv6.15.11//NONSGML v1.0//EN
CALSCALE:GREGORIAN
METHOD:PUBLISH
X-WR-CALNAME:Paraeishockey Förderverein
X-ORIGINAL-URL:https://www.paraeishockey-foerderverein.de
X-WR-CALDESC:Veranstaltungen für Paraeishockey Förderverein
REFRESH-INTERVAL;VALUE=DURATION:PT1H
X-Robots-Tag:noindex
X-PUBLISHED-TTL:PT1H
BEGIN:VTIMEZONE
TZID:Europe/Berlin
BEGIN:DAYLIGHT
TZOFFSETFROM:+0100
TZOFFSETTO:+0200
TZNAME:CEST
DTSTART:20180325T010000
END:DAYLIGHT
BEGIN:STANDARD
TZOFFSETFROM:+0200
TZOFFSETTO:+0100
TZNAME:CET
DTSTART:20181028T010000
END:STANDARD
BEGIN:DAYLIGHT
TZOFFSETFROM:+0100
TZOFFSETTO:+0200
TZNAME:CEST
DTSTART:20190331T010000
END:DAYLIGHT
BEGIN:STANDARD
TZOFFSETFROM:+0200
TZOFFSETTO:+0100
TZNAME:CET
DTSTART:20191027T010000
END:STANDARD
BEGIN:DAYLIGHT
TZOFFSETFROM:+0100
TZOFFSETTO:+0200
TZNAME:CEST
DTSTART:20200329T010000
END:DAYLIGHT
BEGIN:STANDARD
TZOFFSETFROM:+0200
TZOFFSETTO:+0100
TZNAME:CET
DTSTART:20201025T010000
END:STANDARD
END:VTIMEZONE
BEGIN:VEVENT
DTSTART;VALUE=DATE:20191115
DTEND;VALUE=DATE:20191123
DTSTAMP:20260426T033549
CREATED:20190618T143800Z
LAST-MODIFIED:20190618T143800Z
UID:923-1573776000-1574467199@www.paraeishockey-foerderverein.de
SUMMARY:Para Eishockey B-WM
DESCRIPTION:
URL:https://www.paraeishockey-foerderverein.de/termine/para-eishockey-b-wm/
LOCATION:Eissporthalle PO9\, Glockenturmstr. 14\, Berlin\, 14053\, Deutschland
END:VEVENT
END:VCALENDAR