BEGIN:VCALENDAR
VERSION:2.0
PRODID:-//Paraeishockey Förderverein - ECPv6.15.11//NONSGML v1.0//EN
CALSCALE:GREGORIAN
METHOD:PUBLISH
X-ORIGINAL-URL:https://www.paraeishockey-foerderverein.de
X-WR-CALDESC:Veranstaltungen für Paraeishockey Förderverein
REFRESH-INTERVAL;VALUE=DURATION:PT1H
X-Robots-Tag:noindex
X-PUBLISHED-TTL:PT1H
BEGIN:VTIMEZONE
TZID:Europe/Berlin
BEGIN:DAYLIGHT
TZOFFSETFROM:+0100
TZOFFSETTO:+0200
TZNAME:CEST
DTSTART:20190331T010000
END:DAYLIGHT
BEGIN:STANDARD
TZOFFSETFROM:+0200
TZOFFSETTO:+0100
TZNAME:CET
DTSTART:20191027T010000
END:STANDARD
BEGIN:DAYLIGHT
TZOFFSETFROM:+0100
TZOFFSETTO:+0200
TZNAME:CEST
DTSTART:20200329T010000
END:DAYLIGHT
BEGIN:STANDARD
TZOFFSETFROM:+0200
TZOFFSETTO:+0100
TZNAME:CET
DTSTART:20201025T010000
END:STANDARD
BEGIN:DAYLIGHT
TZOFFSETFROM:+0100
TZOFFSETTO:+0200
TZNAME:CEST
DTSTART:20210328T010000
END:DAYLIGHT
BEGIN:STANDARD
TZOFFSETFROM:+0200
TZOFFSETTO:+0100
TZNAME:CET
DTSTART:20211031T010000
END:STANDARD
END:VTIMEZONE
BEGIN:VEVENT
DTSTART;TZID=Europe/Berlin:20200111T083000
DTEND;TZID=Europe/Berlin:20200111T093000
DTSTAMP:20260426T051712
CREATED:20191127T204857Z
LAST-MODIFIED:20191127T204857Z
UID:942-1578731400-1578735000@www.paraeishockey-foerderverein.de
SUMMARY:Ligaspiel in Dresden
DESCRIPTION:Weser Stars Bremen : SG Dresden/Dachau
URL:https://www.paraeishockey-foerderverein.de/termine/ligaspiel-in-dresden-2/
LOCATION:Energie Verbundarena Dresden\, Magdeburger Str. 10\, Dresden\, 01067
END:VEVENT
BEGIN:VEVENT
DTSTART;TZID=Europe/Berlin:20200111T100000
DTEND;TZID=Europe/Berlin:20200111T110000
DTSTAMP:20260426T051712
CREATED:20191127T204639Z
LAST-MODIFIED:20191127T204639Z
UID:940-1578736800-1578740400@www.paraeishockey-foerderverein.de
SUMMARY:Ligaspiel in Dresden
DESCRIPTION:Ice Lions Hannover : TuS Wiehl
URL:https://www.paraeishockey-foerderverein.de/termine/ligaspiel-in-dresden/
LOCATION:Energie Verbundarena Dresden\, Magdeburger Str. 10\, Dresden\, 01067
END:VEVENT
BEGIN:VEVENT
DTSTART;TZID=Europe/Berlin:20200112T080000
DTEND;TZID=Europe/Berlin:20200112T093000
DTSTAMP:20260426T051712
CREATED:20191127T205028Z
LAST-MODIFIED:20191127T205028Z
UID:944-1578816000-1578821400@www.paraeishockey-foerderverein.de
SUMMARY:Ligaspiel in Dresden
DESCRIPTION:SG Dresden/Dachau : Ice Lions Hannover
URL:https://www.paraeishockey-foerderverein.de/termine/ligaspiel-in-dresden-3/
LOCATION:Energie Verbundarena Dresden\, Magdeburger Str. 10\, Dresden\, 01067
END:VEVENT
BEGIN:VEVENT
DTSTART;TZID=Europe/Berlin:20200112T100000
DTEND;TZID=Europe/Berlin:20200112T113000
DTSTAMP:20260426T051712
CREATED:20191127T205220Z
LAST-MODIFIED:20191127T205220Z
UID:946-1578823200-1578828600@www.paraeishockey-foerderverein.de
SUMMARY:Ligaspiel in Dresden
DESCRIPTION:Weser Stars Bremen : TuS Wiehl
URL:https://www.paraeishockey-foerderverein.de/termine/ligaspiel-in-dresden-4/
LOCATION:Energie Verbundarena Dresden\, Magdeburger Str. 10\, Dresden\, 01067
END:VEVENT
END:VCALENDAR